BEGIN:VCALENDAR
VERSION:2.0
PRODID:-//Bike Newton - ECPv6.15.20//NONSGML v1.0//EN
CALSCALE:GREGORIAN
METHOD:PUBLISH
X-ORIGINAL-URL:https://www.bikenewton.org
X-WR-CALDESC:Events for Bike Newton
REFRESH-INTERVAL;VALUE=DURATION:PT1H
X-Robots-Tag:noindex
X-PUBLISHED-TTL:PT1H
BEGIN:VTIMEZONE
TZID:America/New_York
BEGIN:DAYLIGHT
TZOFFSETFROM:-0500
TZOFFSETTO:-0400
TZNAME:EDT
DTSTART:20160313T070000
END:DAYLIGHT
BEGIN:STANDARD
TZOFFSETFROM:-0400
TZOFFSETTO:-0500
TZNAME:EST
DTSTART:20161106T060000
END:STANDARD
BEGIN:DAYLIGHT
TZOFFSETFROM:-0500
TZOFFSETTO:-0400
TZNAME:EDT
DTSTART:20170312T070000
END:DAYLIGHT
BEGIN:STANDARD
TZOFFSETFROM:-0400
TZOFFSETTO:-0500
TZNAME:EST
DTSTART:20171105T060000
END:STANDARD
BEGIN:DAYLIGHT
TZOFFSETFROM:-0500
TZOFFSETTO:-0400
TZNAME:EDT
DTSTART:20180311T070000
END:DAYLIGHT
BEGIN:STANDARD
TZOFFSETFROM:-0400
TZOFFSETTO:-0500
TZNAME:EST
DTSTART:20181104T060000
END:STANDARD
BEGIN:DAYLIGHT
TZOFFSETFROM:-0500
TZOFFSETTO:-0400
TZNAME:EDT
DTSTART:20190310T070000
END:DAYLIGHT
BEGIN:STANDARD
TZOFFSETFROM:-0400
TZOFFSETTO:-0500
TZNAME:EST
DTSTART:20191103T060000
END:STANDARD
BEGIN:DAYLIGHT
TZOFFSETFROM:-0500
TZOFFSETTO:-0400
TZNAME:EDT
DTSTART:20200308T070000
END:DAYLIGHT
BEGIN:STANDARD
TZOFFSETFROM:-0400
TZOFFSETTO:-0500
TZNAME:EST
DTSTART:20201101T060000
END:STANDARD
BEGIN:DAYLIGHT
TZOFFSETFROM:-0500
TZOFFSETTO:-0400
TZNAME:EDT
DTSTART:20210314T070000
END:DAYLIGHT
BEGIN:STANDARD
TZOFFSETFROM:-0400
TZOFFSETTO:-0500
TZNAME:EST
DTSTART:20211107T060000
END:STANDARD
END:VTIMEZONE
BEGIN:VTIMEZONE
TZID:UTC
BEGIN:STANDARD
TZOFFSETFROM:+0000
TZOFFSETTO:+0000
TZNAME:UTC
DTSTART:20160101T000000
END:STANDARD
END:VTIMEZONE
BEGIN:VEVENT
DTSTART;TZID=America/New_York:20200624T173000
DTEND;TZID=America/New_York:20200624T190000
DTSTAMP:20260423T062155
CREATED:20200617T010718Z
LAST-MODIFIED:20200618T165006Z
UID:1202-1593019800-1593025200@www.bikenewton.org
SUMMARY:Community Meeting on Extending Beacon Street Bike Lane
DESCRIPTION:Bike Newton invites the public to attend the following community meeting\, on Zoom\, Weds. June 24 5:30-7pm:\nOverview: The City of Newton is planning to update the pavement markings on Beacon Street between Centre Street and Washington Street. The City is looking to incorporate a painted bike lanes on both sides of the street which would eliminate on-street parking in certain locations. \nProject goal:  \nExtend bike accommodations in Newton  Increase safety and comfort for all users  Decrease likelihood of crashes \nUsing paint and signage the project will:  \nExtend bike lanes on both sides of Beacon Street  Maintain parking in high-demand areas  (e.g. Waban Center\, Four Corners\, Cold Springs Park\,  Angier\, Newton Centre approach) \nZoom Mtg Info:       https://us02web.zoom.us/j/84272533389?pwd=ckdYdE5CSk9DSUovRFJNOE9pQnQ2dz09 \nMeeting ID: 842 7253 3389 Password: 371415 \nOr \nOne tap mobile +13017158592\,\,84272533389# US (Germantown) +13126266799\,\,84272533389# US (Chicago) \nOr \nDial by your location +1 646 558 8656 US (New York) Meeting ID: 842 7253 3389 \nFind your local number: https://us02web.zoom.us/u/kbdyIR5teK \nContact: Nicole Freedman\, Director of Transportation Planning\, Nfreedman@newtonma.gov\, (617) 879-8148.
URL:https://www.bikenewton.org/event/community-meeting-on-extending-beacon-street-bike-lane/
CATEGORIES:Events,Featured,Meetings
ATTACH;FMTTYPE=image/jpeg:https://www.bikenewton.org/wp-content/uploads/2020/06/beacon-biking.jpeg
END:VEVENT
BEGIN:VEVENT
DTSTART;TZID=America/New_York:20200527T190000
DTEND;TZID=America/New_York:20200527T203000
DTSTAMP:20260423T062155
CREATED:20171221T015355Z
LAST-MODIFIED:20200403T190316Z
UID:845-1590606000-1590611400@www.bikenewton.org
SUMMARY:Bike Newton Monthly Steering Committee Meeting
DESCRIPTION:Bike Newton’s monthly Steering Committee meeting.  Public is invited to attend.  Please email Brendan at brendan@bikenewton.org for Zoom invite.  7:00pm-8:30.
URL:https://www.bikenewton.org/event/bike-newton-monthly-steering-committee-meeting-8/
CATEGORIES:Events,Featured,Meetings
ATTACH;FMTTYPE=image/png:https://www.bikenewton.org/wp-content/uploads/2017/04/logoBN.png
ORGANIZER;CN="Brendan Keegan":MAILTO:brendan@bikenewton.org
END:VEVENT
BEGIN:VEVENT
DTSTART;TZID=America/New_York:20200422T190000
DTEND;TZID=America/New_York:20200422T203000
DTSTAMP:20260423T062155
CREATED:20171221T015612Z
LAST-MODIFIED:20200403T190410Z
UID:847-1587582000-1587587400@www.bikenewton.org
SUMMARY:Bike Newton Monthly Steering Committee Meeting
DESCRIPTION:Bike Newton’s monthly Steering Committee meeting.  Public is invited to attend.  Please email brendan@bikenewton.org for Zoom invite!  7:00pm-8:30.
URL:https://www.bikenewton.org/event/bike-newton-monthly-steering-committee-meeting-9/
CATEGORIES:Events,Featured,Meetings
ATTACH;FMTTYPE=image/png:https://www.bikenewton.org/wp-content/uploads/2017/04/logoBN.png
ORGANIZER;CN="Brendan Keegan":MAILTO:brendan@bikenewton.org
END:VEVENT
BEGIN:VEVENT
DTSTART;TZID=America/New_York:20190311T183000
DTEND;TZID=America/New_York:20190311T203000
DTSTAMP:20260423T062155
CREATED:20190308T171025Z
LAST-MODIFIED:20190308T171025Z
UID:1040-1552329000-1552336200@www.bikenewton.org
SUMMARY:“Why We Cycle”: Documentary Film Screening & Panel Discussion
DESCRIPTION:To the Dutch\, cycling is as normal as breathing. They don’t think about it\, they just do it. Perhaps the fact that they don’t think about it\, is the key to the bicycle’s success in the Netherlands. Through conversations with ordinary cyclists and specialists from a variety of disciplines\, the Dutch filmmakers uncover some obvious\, but even more hidden effects of cycling on people\, on societies\, and on the organization of cities. \nScreening begins at 6:30pm \nJoin us for the exclusive Boston area premiere of “Why We Cycle”\, exploring the hidden effects of cycling on our cities and ourselves. The one-hour film will be followed by a one-hour panel discussion with local cycling leaders on the health\, sustainability\, and equity benefits from cycling. \nLocation: Harvard Graduate School of Design  Gund Hall Piper Auditorium 48 Quincy St\, Cambridge\, MA 02138 \nFor details see this link
URL:https://www.bikenewton.org/event/why-we-cycle-documentary-film-screening-panel-discussion/
CATEGORIES:Events,Featured,Meetings
ATTACH;FMTTYPE=image/jpeg:https://www.bikenewton.org/wp-content/uploads/2019/03/why-we-cycle.jpeg
ORGANIZER;CN="Nathan Aronow":MAILTO:nathana@bikenewton.org
END:VEVENT
BEGIN:VEVENT
DTSTART;TZID=America/New_York:20190310T110000
DTEND;TZID=America/New_York:20190310T130000
DTSTAMP:20260423T062155
CREATED:20190308T172459Z
LAST-MODIFIED:20190309T151729Z
UID:1043-1552215600-1552222800@www.bikenewton.org
SUMMARY:Transforming Washington Street into a Village Street
DESCRIPTION:We have much to discuss.  Office hours\, Video from the Riverside Greenway Forum\, City of Newton looking for input on Draft 2 of Hello Washington Street Planning Project. \n\n\n\n\n\n\n\n\n\n\n\n\n\n\n\n\n\n\n\n\n\n\n\n\nOffice Hours – Let’s Chat!\nSunday March 10th\ndrop by between 11am – 1pm\nNewton Innovation Center\n124 Vernon St Newton Corner\nJoin Bike Newton steering committee members to talk about the opportunities to create a more livable Washington Street including bike lanes\, trees. wider sidewalks\, parks\, businesses\, safer crossings and yes driving and parking and how you can advocate for this. \nThis is an important topic to talk about RIGHT NOW as we have just confirmed that the City Council will be discussing this at Public Safety & Transportation on  Wednesday 3/20 at 7 pm.  Your support is needed to keep this important concept moving forward. \nNot certain what we are talking about?  The link below is a video created by “Walkable Cities” Author Jeff Speck showcasing what could be on Washington Street.  Watch it as it lays out very well the issues with the current road design and lays out a vision for a Washington Street that is safer and more focused on people.  https://youtu.be/2zAMdQqkPhk \nHappy to discuss other bike related items too!
URL:https://www.bikenewton.org/event/transforming-washington-street-into-a-village-street/
CATEGORIES:Events,Featured,Meetings
ATTACH;FMTTYPE=image/png:https://www.bikenewton.org/wp-content/uploads/2019/03/washington-st-cycle-track.png
ORGANIZER;CN="Alicia Bowman":MAILTO:alicia@bikenewton.org
END:VEVENT
BEGIN:VEVENT
DTSTART;TZID=America/New_York:20181128T190000
DTEND;TZID=America/New_York:20181128T203000
DTSTAMP:20260423T062155
CREATED:20171221T021059Z
LAST-MODIFIED:20180127T224543Z
UID:859-1543431600-1543437000@www.bikenewton.org
SUMMARY:Bike Newton Monthly Steering Committee Meeting
DESCRIPTION:Bike Newton’s monthly Steering Committee meeting.  Public is invited to attend.  Please email Alicia at alicia@bikenewton.org for location.  7pm-8:30.
URL:https://www.bikenewton.org/event/bike-newton-monthly-steering-committee-meeting-13/
CATEGORIES:Events,Meetings
ATTACH;FMTTYPE=image/png:https://www.bikenewton.org/wp-content/uploads/2017/04/logoBN.png
ORGANIZER;CN="Alicia Bowman":MAILTO:alicia@bikenewton.org
END:VEVENT
BEGIN:VEVENT
DTSTART;TZID=America/New_York:20181024T190000
DTEND;TZID=America/New_York:20181024T203000
DTSTAMP:20260423T062155
CREATED:20171221T020808Z
LAST-MODIFIED:20180127T224503Z
UID:857-1540407600-1540413000@www.bikenewton.org
SUMMARY:Bike Newton Monthly Steering Committee Meeting
DESCRIPTION:Bike Newton’s monthly Steering Committee meeting.  Public is invited to attend.  Please email Alicia at alicia@bikenewton.org for location.  7pm-8:30.
URL:https://www.bikenewton.org/event/bike-newton-monthly-steering-committee-meeting-12/
CATEGORIES:Events,Meetings
ATTACH;FMTTYPE=image/png:https://www.bikenewton.org/wp-content/uploads/2017/04/logoBN.png
ORGANIZER;CN="Alicia Bowman":MAILTO:alicia@bikenewton.org
END:VEVENT
BEGIN:VEVENT
DTSTART;TZID=America/New_York:20180926T190000
DTEND;TZID=America/New_York:20180926T203000
DTSTAMP:20260423T062155
CREATED:20171221T020529Z
LAST-MODIFIED:20180127T224432Z
UID:854-1537988400-1537993800@www.bikenewton.org
SUMMARY:Bike Newton Monthly Steering Committee Meeting
DESCRIPTION:Bike Newton’s monthly Steering Committee meeting.  Public is invited to attend.  Please email Alicia at alicia@bikenewton.org for location.  7pm-8:30.
URL:https://www.bikenewton.org/event/bike-newton-monthly-steering-committee-meeting-11/
CATEGORIES:Events,Meetings
ATTACH;FMTTYPE=image/png:https://www.bikenewton.org/wp-content/uploads/2017/04/logoBN.png
ORGANIZER;CN="Alicia Bowman":MAILTO:alicia@bikenewton.org
END:VEVENT
BEGIN:VEVENT
DTSTART;TZID=America/New_York:20180822T190000
DTEND;TZID=America/New_York:20180822T203000
DTSTAMP:20260423T062155
CREATED:20171221T020026Z
LAST-MODIFIED:20180127T224349Z
UID:849-1534964400-1534969800@www.bikenewton.org
SUMMARY:Bike Newton Monthly Steering Committee Meeting
DESCRIPTION:Bike Newton’s monthly Steering Committee meeting.  Public is invited to attend.  Please email Alicia at alicia@bikenewton.org for location.  7pm-8:30.
URL:https://www.bikenewton.org/event/bike-newton-monthly-steering-committee-meeting-10/
CATEGORIES:Events,Meetings
ATTACH;FMTTYPE=image/png:https://www.bikenewton.org/wp-content/uploads/2017/04/logoBN.png
ORGANIZER;CN="Alicia Bowman":MAILTO:alicia@bikenewton.org
END:VEVENT
BEGIN:VEVENT
DTSTART;TZID=America/New_York:20180112T080000
DTEND;TZID=America/New_York:20180112T100000
DTSTAMP:20260423T062155
CREATED:20180104T221200Z
LAST-MODIFIED:20180104T221200Z
UID:875-1515744000-1515751200@www.bikenewton.org
SUMMARY:Needham Street/Highland Ave. reconstruction project meetings
DESCRIPTION:Your chance to learn about the design and timeline  \nMass Department of Transportation is holding three public meetings to discuss the proposed reconstruction of Highland Ave in Needham and Needham and Winchester Streets in Newton. \nThe project would stretch roughly two miles\, from Webster Street in Needham to Route 9 in Newton. It would widen sidewalks\, improve intersections\, add raised bikes lanes and crossing signals and rehabilitate the bridge over the Charles River. \nThis will be your chance to see the designs\, ask questions and provide input. \nIt is the chamber’s understanding that the Jan. 10 meeting will focus more on the Needham portion of the project and the Jan. 11 and 12 meetings will have a Newton focus\, however the full project will be discussed during all three sessions.  Open to all. No registration required. \nSaco-Pettee Mill Building    156 Oak Street    Newton
URL:https://www.bikenewton.org/event/needham-street-highland-ave-reconstruction-project-meetings-3/
CATEGORIES:Events,Meetings
ATTACH;FMTTYPE=image/png:https://www.bikenewton.org/wp-content/uploads/2018/01/N-squared-photo.png
END:VEVENT
BEGIN:VEVENT
DTSTART;TZID=America/New_York:20180111T180000
DTEND;TZID=America/New_York:20180111T210000
DTSTAMP:20260423T062155
CREATED:20180104T215558Z
LAST-MODIFIED:20180104T215558Z
UID:869-1515693600-1515704400@www.bikenewton.org
SUMMARY:Needham Street/Highland Ave. reconstruction project meetings
DESCRIPTION:Your chance to learn about the design and timeline  \nMass Department of Transportation is holding three public meetings to discuss the proposed reconstruction of Highland Ave in Needham and Needham and Winchester Streets in Newton. \nThe project would stretch roughly two miles\, from Webster Street in Needham to Route 9 in Newton. It would widen sidewalks\, improve intersections\, add raised bikes lanes and crossing signals and rehabilitate the bridge over the Charles River. \nThis will be your chance to see the designs\, ask questions and provide input. \nIt is the chamber’s understanding that the Jan. 10 meeting will focus more on the Needham portion of the project and the Jan. 11 and 12 meetings will have a Newton focus\, however the full project will be discussed during all three sessions.  Open to all. No registration required. \nSaco-Pettee Mill Building    156 Oak Street    Newton
URL:https://www.bikenewton.org/event/needham-street-highland-ave-reconstruction-project-meetings-2/
CATEGORIES:Events,Meetings
ATTACH;FMTTYPE=image/png:https://www.bikenewton.org/wp-content/uploads/2018/01/N-squared-photo.png
END:VEVENT
BEGIN:VEVENT
DTSTART;TZID=America/New_York:20180110T190000
DTEND;TZID=America/New_York:20180110T210000
DTSTAMP:20260423T062155
CREATED:20180104T213536Z
LAST-MODIFIED:20180104T221553Z
UID:864-1515610800-1515618000@www.bikenewton.org
SUMMARY:Needham Street/Highland Ave. reconstruction project meetings
DESCRIPTION:Your chance to learn about the design and timeline  \nMass Department of Transportation is holding three public meetings to discuss the proposed reconstruction of Highland Ave in Needham and Needham and Winchester Streets in Newton. \nThe project would stretch roughly two miles\, from Webster Street in Needham to Route 9 in Newton. It would widen sidewalks\, improve intersections\, add raised bikes lanes and crossing signals and rehabilitate the bridge over the Charles River. \nThis will be your chance to see the designs\, ask questions and provide input. \nIt is the chamber’s understanding that the Jan. 10 meeting will focus more on the Needham portion of the project and the Jan. 11 and 12 meetings will have a Newton focus\, however the full project will be discussed during all three sessions.  Open to all. No registration required. \nPowers Hall\,   Needham Town Hall\,  1471 Highland Ave\,  Needham
URL:https://www.bikenewton.org/event/needham-street-highland-ave-reconstruction-project-meetings/
CATEGORIES:Events,Meetings
ATTACH;FMTTYPE=image/png:https://www.bikenewton.org/wp-content/uploads/2018/01/N-squared-photo.png
END:VEVENT
BEGIN:VEVENT
DTSTART;TZID=America/New_York:20171206T190000
DTEND;TZID=America/New_York:20171206T203000
DTSTAMP:20260423T062155
CREATED:20171221T013703Z
LAST-MODIFIED:20171221T013703Z
UID:835-1512586800-1512592200@www.bikenewton.org
SUMMARY:Bike Newton Monthly Steering Committee Meeting
DESCRIPTION:Bike Newton’s monthly Steering Committee meeting.  Public is invited to attend.  Please email Alicia at alicia@bikenewton.org for location.  7pm-8:30.
URL:https://www.bikenewton.org/event/bike-newton-monthly-steering-committee-meeting-3/
CATEGORIES:Events,Meetings
ATTACH;FMTTYPE=image/png:https://www.bikenewton.org/wp-content/uploads/2017/04/logoBN.png
ORGANIZER;CN="Alicia Bowman":MAILTO:alicia@bikenewton.org
END:VEVENT
BEGIN:VEVENT
DTSTART;TZID=America/New_York:20170907T190000
DTEND;TZID=America/New_York:20170907T210000
DTSTAMP:20260423T062155
CREATED:20170814T144751Z
LAST-MODIFIED:20170814T144751Z
UID:800-1504810800-1504818000@www.bikenewton.org
SUMMARY:Transportation & Housing Forum with Mayoral candidates
DESCRIPTION:Transportation & Housing Forum\nwith Mayoral candidates \nAl Cecchinelli Ruthanne Fuller\nEli Katzoff Scott Lennon\nAmy Sangiolo Richard Saunders\nGeoffrey Woodward \nThursday September 7\, 2017 @ 7:00 PM\nWar Memorial Auditorium \nQ&A regarding: \nInterconnection of Transportation & Housing\nTraffic congestion\nRoad safety\nWalking\, bicycling\, transit use\nFair & diverse housing options for all income levels\nTransit-oriented and multi-use development
URL:https://www.bikenewton.org/event/transportation-housing-forum-with-mayoral-candidates/
LOCATION:Newton City Hall\, 1000 Commonwealth Avenue\, Newton\, 02459\, United States
CATEGORIES:Events,Meetings
ATTACH;FMTTYPE=image/jpeg:https://www.bikenewton.org/wp-content/uploads/2017/08/mayoral_forum.jpg
END:VEVENT
BEGIN:VEVENT
DTSTART;TZID=UTC:20170612T190000
DTEND;TZID=UTC:20170612T203000
DTSTAMP:20260423T062155
CREATED:20170502T053413Z
LAST-MODIFIED:20170502T053413Z
UID:685-1497294000-1497299400@www.bikenewton.org
SUMMARY:Bike Newton Monthly Steering Committee Meeting
DESCRIPTION:Bike Newton’s monthly Steering Committee meeting.  Public is invited to attend.  Please email Alicia at alicia@bikenewton.org for location.  7pm-8:30.
URL:https://www.bikenewton.org/event/bike-newton-monthly-steering-committee-meeting/
CATEGORIES:Events,Meetings
ATTACH;FMTTYPE=image/png:https://www.bikenewton.org/wp-content/uploads/2017/04/BNLogo-sans-tag.png
ORGANIZER;CN="Alicia Bowman":MAILTO:alicia@bikenewton.org
END:VEVENT
BEGIN:VEVENT
DTSTART;TZID=UTC:20170515T190000
DTEND;TZID=UTC:20170515T203000
DTSTAMP:20260423T062155
CREATED:20170502T052907Z
LAST-MODIFIED:20170502T052907Z
UID:683-1494874800-1494880200@www.bikenewton.org
SUMMARY:Bike Newton Steering Committee Monthly Meeting
DESCRIPTION:Bike Newton’s monthly Steering Committee meeting.  Public is invited to attend.  Please email Alicia at alicia@bikenewton.org for location.
URL:https://www.bikenewton.org/event/bike-newton-steering-committee-monthly-meeting-2/
CATEGORIES:Events,Meetings
ATTACH;FMTTYPE=image/jpeg:https://www.bikenewton.org/wp-content/uploads/2017/04/logo-tag.jpg
ORGANIZER;CN="Alicia Bowman":MAILTO:alicia@bikenewton.org
END:VEVENT
BEGIN:VEVENT
DTSTART;TZID=UTC:20170424T190000
DTEND;TZID=UTC:20170424T210000
DTSTAMP:20260423T062155
CREATED:20170420T200457Z
LAST-MODIFIED:20170423T221235Z
UID:500-1493060400-1493067600@www.bikenewton.org
SUMMARY:Bike Newton Steering Committee Monthly Meeting
DESCRIPTION:Bike Newton Steering Committee monthly meeting.
URL:https://www.bikenewton.org/event/bike-newton-steering-committee-monthly-meeting/
CATEGORIES:Events,Meetings
ORGANIZER;CN="Alicia Bowman":MAILTO:alicia@bikenewton.org
END:VEVENT
END:VCALENDAR